BEGIN:VCALENDAR
VERSION:2.0
PRODID:-//Tukios.com/
BEGIN:VEVENT
UID:f33b0721-8bab-4657-a055-639426b1d72c@www.reevesfuneralsonline.com
DTSTAMP:20260424T213539Z
DTSTART:20260425T173000Z
DTEND:20260425T183000Z
SUMMARY:Interment
DESCRIPTION:
URL:https://www.reevesfuneralsonline.com/obituaries/douglas-hall
LOCATION:   Mt Olive MS 39119
GEO:31.761274;-89.6550716
END:VEVENT
END:VCALENDAR