BEGIN:VCALENDAR
VERSION:2.0
PRODID:-//Tukios.com/
BEGIN:VEVENT
UID:a9c30052-5842-42d1-9696-cca447064f99@www.reevesfuneralsonline.com
DTSTAMP:20260424T212527Z
DTSTART:20260424T220000Z
DTEND:20260425T000000Z
SUMMARY:Visitation
DESCRIPTION:
URL:https://www.reevesfuneralsonline.com/obituaries/douglas-hall
LOCATION: 1167 Rock Hill Rd  Mount Olive MS 39119
GEO:31.7463394;-89.6499085
END:VEVENT
END:VCALENDAR