BEGIN:VCALENDAR
VERSION:2.0
PRODID:-//Tukios.com/
BEGIN:VEVENT
UID:f6ffe058-c7f6-4a2e-881b-7ff92a1f4a2e@www.reevesfuneralsonline.com
DTSTAMP:20260424T213233Z
DTSTART:20260425T160000Z
DTEND:20260425T170000Z
SUMMARY:Funeral Service
DESCRIPTION:
URL:https://www.reevesfuneralsonline.com/obituaries/douglas-hall
LOCATION: 1167 Rock Hill Rd  Mount Olive MS 39119
GEO:31.7463394;-89.6499085
END:VEVENT
END:VCALENDAR